BEGIN:VCALENDAR
VERSION:2.0
PRODID:-//ChamberMaster//Event Calendar 2.0//EN
METHOD:PUBLISH
X-PUBLISHED-TTL:P3D
REFRESH-INTERVAL:P3D
CALSCALE:GREGORIAN
BEGIN:VEVENT
DTSTART:20260122T180000Z
DTEND:20260122T190000Z
X-MICROSOFT-CDO-ALLDAYEVENT:FALSE
SUMMARY:2026 YPG Professional Development - Authenticity in Leadership
DESCRIPTION:Authentic leadership is about showing up with honesty\, clarity\, and purpose. In this session\, we'll explore how appropriate honesty and vulnerability can strengthen trust\, foster connection\, and build a more cohesive and successful team dynamic. Lunch will be provided!
X-ALT-DESC;FMTTYPE=text/html:Authentic leadership is about showing up with honesty\, clarity\, and purpose. In this session\, we&rsquo\;ll explore how appropriate honesty and vulnerability can strengthen trust\, foster connection\, and build a more cohesive and successful team dynamic. Lunch will be provided!
LOCATION:Gankler Lab at the Main Library 411 Washington St.\, Alexandria\, LA 71301
UID:e.2369.277
SEQUENCE:3
DTSTAMP:20260423T140905Z
URL:https://cenlabusinessdirectory.cenlachamber.org/events/details/ypg-professional-development-authenticity-in-leadership-277
END:VEVENT

END:VCALENDAR
