BEGIN:VCALENDAR
VERSION:2.0
PRODID:-//ChamberMaster//Event Calendar 2.0//EN
METHOD:PUBLISH
X-PUBLISHED-TTL:P3D
REFRESH-INTERVAL:P3D
CALSCALE:GREGORIAN
BEGIN:VEVENT
DTSTART:20250924T170000Z
DTEND:20250924T180000Z
X-MICROSOFT-CDO-ALLDAYEVENT:FALSE
SUMMARY:YPG Lunch and Learn with Natalie Martin Monroe
DESCRIPTION:Join the Young Professionals Group of Cenla for an enlightening Lunch & Learn featuring Natalie Martin Monroe\, Vice President of Environmental\, Safety\, and Sustainability Operations at RoyOMartin.\n\n\n\nA fourth-generation leader with a career spanning environmental consulting\, corporate leadership\, and community service\, Natalie oversees critical environmental\, safety\, and sustainability initiatives that impact thousands across Louisiana and Texas.\n\nIn this session\, Natalie will share her insights on what it takes to lead with vision\, integrity\, and impact. Whether you're just starting your career or aiming for a leadership role\, you'll gain practical takeaways to help you grow and lead with confidence.
X-ALT-DESC;FMTTYPE=text/html:<p>Join the Young Professionals Group of Cenla for an enlightening Lunch &amp\; Learn featuring <strong>Natalie Martin Monroe</strong>\, Vice President of Environmental\, Safety\, and Sustainability Operations at RoyOMartin.<br />\n<br />\nA fourth-generation leader with a career spanning environmental consulting\, corporate leadership\, and community service\, Natalie oversees critical environmental\, safety\, and sustainability initiatives that impact thousands across Louisiana and Texas.</p>\n\n<p>In this session\, Natalie will share her insights on <strong>what it takes to lead with vision\, integrity\, and impact</strong>. Whether you&rsquo\;re just starting your career or aiming for a leadership role\, you&rsquo\;ll gain practical takeaways to help you grow and lead with confidence.</p>\n
LOCATION:RoyOMartin Headquarters 2189 Memorial Dr\, Alexandria\, LA
UID:e.2369.253
SEQUENCE:3
DTSTAMP:20260423T221808Z
URL:https://cenlabusinessdirectory.cenlachamber.org/events/details/ypg-lunch-and-learn-with-natalie-martin-monroe-253
END:VEVENT

END:VCALENDAR
