BEGIN:VCALENDAR
VERSION:2.0
PRODID:-//ChamberMaster//Event Calendar 2.0//EN
METHOD:PUBLISH
X-PUBLISHED-TTL:P3D
REFRESH-INTERVAL:P3D
CALSCALE:GREGORIAN
BEGIN:VEVENT
DTSTART:20260513T223000Z
DTEND:20260514T003000Z
X-MICROSOFT-CDO-ALLDAYEVENT:FALSE
SUMMARY:YPG is celebrating World Cocktail Day at Hemingway!
DESCRIPTION:Join us for WORLD COCKTAIL DAY at Hemingway House of Stories and Spirits!\n\n\n\n	Date: Wednesday\, May 13th\n	Time: 5:30 PM   7:30 PM\n	Location: Hemingway House of Stories and Spirits\n	\n		704 Main St\, Pineville\, LA 71360\n	\n	\n\n\n\n\nYPG will be covering cocktails!\n\n\n\nDon't miss out on this exciting night of fun and networking!\n\n \nRSVP so we can count you in!
X-ALT-DESC;FMTTYPE=text/html:<div style="background:rgb(250\, 250\, 250)\; border:0px\; padding:0px"><span style="font-family:inherit">Join us for WORLD COCKTAIL DAY at Hemingway House of Stories and Spirits!</span></div>\n\n<div style="background:rgb(250\, 250\, 250)\; border:0px\; padding:0px">\n<ul>\n	<li><span style="font-family:inherit">Date: Wednesday\, May 13th</span></li>\n	<li>Time: 5:30 PM &ndash\; 7:30 PM</li>\n	<li>Location:&nbsp\;<span style="background-color:rgb(250\, 250\, 250)">Hemingway House of Stories and Spirits</span>\n	<ul>\n		<li><span style="color:rgb(31\, 31\, 31)\; font-family:roboto\,arial\,sans-serif\; font-size:14px">704 Main St\, Pineville\, LA 71360</span></li>\n	</ul>\n	</li>\n</ul>\n</div>\n\n<div style="background:rgb(250\, 250\, 250)\; border:0px\; padding:0px">\n<div style="background:transparent\; border:0px\; padding:0px">YPG will be covering cocktails!<br />\n<br />\nDon&rsquo\;t miss out on this exciting night of fun and networking!<br />\n&nbsp\;</div>\n<span style="font-family:inherit">RSVP so we can count you in!</span></div>\n
LOCATION:Location: Hemingway House of Stories and Spirits 704 Main St\, Pineville\, LA 71360
UID:e.2369.523
SEQUENCE:3
DTSTAMP:20260422T192046Z
URL:https://cenlabusinessdirectory.cenlachamber.org/events/details/ypg-is-celebrating-world-cocktail-day-at-hemingway-523
END:VEVENT

END:VCALENDAR
