BEGIN:VCALENDAR
VERSION:2.0
PRODID:-//ChamberMaster//Event Calendar 2.0//EN
METHOD:PUBLISH
X-PUBLISHED-TTL:P3D
REFRESH-INTERVAL:P3D
CALSCALE:GREGORIAN
BEGIN:VEVENT
DTSTART:20250910T123000Z
DTEND:20250910T140000Z
X-MICROSOFT-CDO-ALLDAYEVENT:FALSE
SUMMARY:YPG Coffee Social at Starfish Book Nook and Coffee Corner
DESCRIPTION:Our September coffee social is taking us to Ball\, LA! Starfish Book Nook and Coffee Corner is excited to hosted YPG for a morning of networking and catching up with our fellow young professionals.\n\n\n\nRSVP today and join us on Wednesday\, September 10th\, for coffee and pastries!
X-ALT-DESC;FMTTYPE=text/html:Our September coffee social is taking us to Ball\, LA! Starfish Book Nook and Coffee Corner is excited to hosted YPG for a morning of networking and catching up with our fellow young professionals.<br />\n<br />\nRSVP today and join us on Wednesday\, September 10th\, for coffee and pastries!
LOCATION:5508 Monroe Hwy Ball\, LA 71405
UID:e.2369.251
SEQUENCE:3
DTSTAMP:20260423T205858Z
URL:https://cenlabusinessdirectory.cenlachamber.org/events/details/ypg-coffee-social-at-starfish-book-nook-and-coffee-corner-251
END:VEVENT

END:VCALENDAR
