BEGIN:VCALENDAR
VERSION:2.0
PRODID:-//ChamberMaster//Event Calendar 2.0//EN
METHOD:PUBLISH
X-PUBLISHED-TTL:P3D
REFRESH-INTERVAL:P3D
CALSCALE:GREGORIAN
BEGIN:VEVENT
DTSTART:20260109T160000Z
DTEND:20260109T170000Z
X-MICROSOFT-CDO-ALLDAYEVENT:FALSE
SUMMARY:Olive Garden Ribbon Cutting
DESCRIPTION:Ribbon Cutting
X-ALT-DESC;FMTTYPE=text/html:Ribbon Cutting
LOCATION:3213 S. MacArthur Drive Alexandria\, LA
UID:e.2369.278
SEQUENCE:3
DTSTAMP:20260423T141254Z
URL:https://cenlabusinessdirectory.cenlachamber.org/events/details/olive-garden-ribbon-cutting-278
END:VEVENT

END:VCALENDAR
