BEGIN:VCALENDAR
VERSION:2.0
PRODID:-//ChamberMaster//Event Calendar 2.0//EN
METHOD:PUBLISH
X-PUBLISHED-TTL:P3D
REFRESH-INTERVAL:P3D
CALSCALE:GREGORIAN
BEGIN:VEVENT
DTSTART:20250920T233000Z
DTEND:20250921T020000Z
X-MICROSOFT-CDO-ALLDAYEVENT:FALSE
SUMMARY:Mozart & Mingle - A YPG Social at the Rapides Symphony Orchestra
DESCRIPTION:Join YPG for a night of music\, mingling\, and Mozart! \n\nWe're partnering with the Rapides Symphony Orchestra for a special evening featuring Mozart's Don Giovanni.\n\nYour ticket includes:\n\n  Exclusive YPG Mixer at 6:30 PM\n\n  Concert at 7:30 PM\n\n  A designated space for YPG members to gather during intermission\n\n  Reserved seating just for YPG\n\n  Saturday\, September 20\n\n  Coughlin-Saunders Performing Arts Center| 1202 3rd St\, Alexandria\, LA \n\n  Cocktail Attire   All Black\n\nTicket Information: There are a limited number of complimentary tickets for YPG members and they are first come first serve! One ticker per member\, please. If you need to purchase additional tickets\, you can access a special discounted YPG rate through the symphony website.\n\nRapides Symphony Orchestra - Music Is Life.\n\n*We ask that you only claim a complimentary ticket if you are certain you are attending.\n\n\n\nPick up your ticket(s) at the Will Call table the evening of the event. \n\nDon't miss this opportunity to connect with fellow young professionals while enjoying an unforgettable performance!
X-ALT-DESC;FMTTYPE=text/html:<p>Join YPG for a night of music\, mingling\, and Mozart!&nbsp\;</p>\n\n<p>We&rsquo\;re partnering with the Rapides Symphony Orchestra for a special evening featuring <em>Mozart&rsquo\;s Don Giovanni</em>.</p>\n\n<p>Your ticket includes:<br />\n&gt\; Exclusive <strong>YPG Mixer</strong> at 6:30 PM<br />\n&gt\;&nbsp\;<strong>Concert</strong> at 7:30 PM<br />\n&gt\; A <strong>designated space for YPG members</strong> to gather during intermission<br />\n&gt\;&nbsp\;<strong>Reserved seating</strong> just for YPG</p>\n\n<p>&gt\;&nbsp\;<strong>Saturday\, September 20</strong><br />\n&gt\;&nbsp\;<strong>Coughlin-Saunders Performing Arts Center</strong>|&nbsp\;<a href="https://www.bing.com/ck/a?!&amp\;&amp\;p=2edb03b6421cb22c402271bf9ca68755968aea96f05837500f7231a90e9d3439JmltdHM9MTc1NTczNDQwMA&amp\;ptn=3&amp\;ver=2&amp\;hsh=4&amp\;fclid=327169cf-fac1-6812-11df-7ffefb4f69aa&amp\;u=a1L21hcHM_Jm1lcGk9MH5-RW1iZWRkZWR-QWRkcmVzc19MaW5rJnR5PTE4JnE9Q291Z2hsaW4lMjBTYXVuZGVycyUyMFBlcmZvcm1pbmclMjBBcnRzJTIwQ2VudGVyJnNzPXlwaWQuWU44NzN4OTU5NTYwNDUzNzkxMTIzMTI1JnBwb2lzPTMxLjMwOTg2Nzg1ODg4NjcyXy05Mi40NDM0NDMyOTgzMzk4NF9Db3VnaGxpbiUyMFNhdW5kZXJzJTIwUGVyZm9ybWluZyUyMEFydHMlMjBDZW50ZXJfWU44NzN4OTU5NTYwNDUzNzkxMTIzMTI1fiZjcD0zMS4zMDk4Njh-LTkyLjQ0MzQ0MyZ2PTImc1Y9MSZGT1JNPU1QU1JQTA&amp\;ntb=1" style="color: rgb(60\, 81\, 180)\; text-decoration-line: none\; touch-action: manipulation\; font-family: Roboto\, Helvetica\, sans-serif\; font-size: 14px\;" target="_blank"><span style="color:#000000">1202 3rd St\, Alexandria\, LA&nbsp\;</span></a><br />\n&gt\;&nbsp\;<strong>Cocktail Attire &ndash\; All Black</strong></p>\n\n<p><strong>Ticket Information</strong>: There are a limited number of complimentary tickets for YPG members and they are <strong>first come first serve</strong>! One ticker per member\, please. If you need to purchase additional tickets\, you can access a special discounted YPG rate through the symphony website.<br />\n<a href="https://www.rapidessymphony.org/mozarts-don-giovanni">Rapides Symphony Orchestra - Music Is Life</a>.<br />\n*<em>We ask that you only claim a complimentary ticket if you are certain you are attending.</em><br />\n<br />\nPick up your ticket(s) at the Will Call table the evening of the event.&nbsp\;</p>\n\n<p>Don&rsquo\;t miss this opportunity to connect with fellow young professionals while enjoying an unforgettable performance!</p>\n
LOCATION:Coughlin Saunders Performing Arts Center 1202 3rd Street Alexandria\, LA 71301
UID:e.2369.245
SEQUENCE:3
DTSTAMP:20260423T205025Z
URL:https://cenlabusinessdirectory.cenlachamber.org/events/details/mozart-mingle-a-ypg-social-at-the-rapides-symphony-orchestra-245
END:VEVENT

END:VCALENDAR
