BEGIN:VCALENDAR
VERSION:2.0
PRODID:-//ChamberMaster//Event Calendar 2.0//EN
METHOD:PUBLISH
X-PUBLISHED-TTL:P3D
REFRESH-INTERVAL:P3D
CALSCALE:GREGORIAN
BEGIN:VEVENT
DTSTART:20251007T150000Z
DTEND:20251007T160000Z
X-MICROSOFT-CDO-ALLDAYEVENT:FALSE
SUMMARY:Glorious Reflections
DESCRIPTION:Ribbon Cutting and Grand Opening
X-ALT-DESC;FMTTYPE=text/html:Ribbon Cutting and Grand Opening&nbsp\;&nbsp\;&nbsp\;&nbsp\;
LOCATION:2030 3rd Street Alexandria
UID:e.2369.256
SEQUENCE:3
DTSTAMP:20260423T204551Z
URL:https://cenlabusinessdirectory.cenlachamber.org/events/details/glorious-reflections-256
END:VEVENT

END:VCALENDAR
