BEGIN:VCALENDAR
VERSION:2.0
PRODID:-//ChamberMaster//Event Calendar 2.0//EN
METHOD:PUBLISH
X-PUBLISHED-TTL:P3D
REFRESH-INTERVAL:P3D
CALSCALE:GREGORIAN
BEGIN:VEVENT
DTSTART:20260303T190000Z
DTEND:20260303T190000Z
X-MICROSOFT-CDO-ALLDAYEVENT:FALSE
SUMMARY:Endurance Mortgage Ribbon Cutting
DESCRIPTION:Ribbon Cutting and Grand Opening
X-ALT-DESC;FMTTYPE=text/html:Ribbon Cutting and Grand Opening
LOCATION:3021 Hwy 28 East Pineville\, LA 71360
UID:e.2369.508
SEQUENCE:3
DTSTAMP:20260421T124300Z
URL:https://cenlabusinessdirectory.cenlachamber.org/events/details/endurance-mortgage-ribbon-cutting-508
END:VEVENT

END:VCALENDAR
