BEGIN:VCALENDAR
VERSION:2.0
PRODID:-//ChamberMaster//Event Calendar 2.0//EN
METHOD:PUBLISH
X-PUBLISHED-TTL:P3D
REFRESH-INTERVAL:P3D
CALSCALE:GREGORIAN
BEGIN:VEVENT
DTSTART:20260130T193000Z
DTEND:20260130T203000Z
X-MICROSOFT-CDO-ALLDAYEVENT:FALSE
SUMMARY:D-Bat Ribbon Cutting and Grand Opening
DESCRIPTION:D-Bat Ribbon Cutting and Grand Opening
X-ALT-DESC;FMTTYPE=text/html:D-Bat Ribbon Cutting and Grand Opening
LOCATION:223 John Allison Drive Alexandria\, LA
UID:e.2369.279
SEQUENCE:3
DTSTAMP:20260423T154703Z
URL:https://cenlabusinessdirectory.cenlachamber.org/events/details/d-bat-ribbon-cutting-and-grand-opening-279
END:VEVENT

END:VCALENDAR
