BEGIN:VCALENDAR
VERSION:2.0
PRODID:-//ChamberMaster//Event Calendar 2.0//EN
METHOD:PUBLISH
X-PUBLISHED-TTL:P3D
REFRESH-INTERVAL:P3D
CALSCALE:GREGORIAN
BEGIN:VEVENT
DTSTART:20250910T132500Z
DTEND:20250910T143000Z
X-MICROSOFT-CDO-ALLDAYEVENT:FALSE
SUMMARY:Central Physicians Healthcare
DESCRIPTION:Ribbon Cutting and Grand Opening
X-ALT-DESC;FMTTYPE=text/html:Ribbon Cutting and Grand Opening
LOCATION:5101 Hwy 28 East Pineville\, LA
UID:e.2369.250
SEQUENCE:3
DTSTAMP:20260423T204735Z
URL:https://cenlabusinessdirectory.cenlachamber.org/events/details/central-physicians-healthcare-250
END:VEVENT

END:VCALENDAR
