BEGIN:VCALENDAR
VERSION:2.0
PRODID:-//ChamberMaster//Event Calendar 2.0//EN
METHOD:PUBLISH
X-PUBLISHED-TTL:P3D
REFRESH-INTERVAL:P3D
CALSCALE:GREGORIAN
BEGIN:VEVENT
DTSTART:20260626T230000Z
DTEND:20260627T030000Z
X-MICROSOFT-CDO-ALLDAYEVENT:FALSE
SUMMARY:2026 Bizzy Awards
DESCRIPTION:The Bizzy Awards recognize local businesses for their outstanding performance and achievements.  Join us for an unforgettable evening at the Randolph Riverfront Center on June 26\, 2026.  The cocktail hour starts at 6:00 p.m.\, followed by dinner at 7:00 p.m.  This is a cash bar event\, and the attire is dinner/cocktail.  This prestigious event includes an awards ceremony and a champagne winner's circle.\nJune 26\, 2026\, 6:00 PM\n\nRandolph Riverfront Center\n\n707 2nd Street\n\nAlexandria\, LA  71301
X-ALT-DESC;FMTTYPE=text/html:<span style="font-size:16px\;">The Bizzy Awards recognize local businesses for their outstanding performance and achievements.&nbsp\; Join us for an unforgettable evening at&nbsp\;the Randolph Riverfront Center on June 26\, 2026.&nbsp\; The cocktail hour starts at 6:00 p.m.\, followed by dinner at 7:00 p.m.&nbsp\; This is a cash bar event\, and the attire is dinner/cocktail.&nbsp\; This prestigious event includes an awards ceremony and a champagne winner&#39\;s circle.</span>\n<div style="text-align: center\;"><strong><span style="font-size:16px\;">June 26\, 2026\, 6:00 PM<br />\nRandolph Riverfront Center<br />\n707 2nd Street<br />\nAlexandria\, LA&nbsp\; 71301</span></strong></div>\n&nbsp\;\n\n<p>&nbsp\;</p>\n
LOCATION:The Randolph Riverfront Center 707 2nd Street Alexandria\, LA 71301
UID:e.2369.268
SEQUENCE:3
DTSTAMP:20260423T235057Z
URL:https://cenlabusinessdirectory.cenlachamber.org/events/details/2026-bizzy-awards-268
END:VEVENT

END:VCALENDAR
