BEGIN:VCALENDAR
VERSION:2.0
PRODID:-//ChamberMaster//Event Calendar 2.0//EN
METHOD:PUBLISH
X-PUBLISHED-TTL:P3D
REFRESH-INTERVAL:P3D
CALSCALE:GREGORIAN
BEGIN:VEVENT
DTSTART:20251216T003000Z
DTEND:20251216T033000Z
X-MICROSOFT-CDO-ALLDAYEVENT:FALSE
SUMMARY:2025 YPG Christmas Party
DESCRIPTION:YPG of Cenla invites you to the most festive Christmas Party of the season! Pair your fanciest attire with a Holly Jolly attitude and join us on Monday\, December 15th at the Vibe in Pineville.\n\n \n\nThis event is free for members\, $5 for non-members\, and a GREAT time for everyone! RSVP today ??\n\n \n\nPS if you're not a member\, now's the best time to become one! For only $50 per year you can enjoy events like this one AND many more - we promise the membership more than pays for itself. Visit ypgcenla.org/become-a-member today!
X-ALT-DESC;FMTTYPE=text/html:<div>YPG of Cenla invites you to the most festive Christmas Party of the season! Pair your fanciest attire with a Holly&nbsp\;Jolly attitude and join us on Monday\, December 15th at the Vibe in Pineville.</div>\n\n<div>&nbsp\;</div>\n\n<div>This event is free for members\, $5 for non-members\, and a GREAT time for everyone! RSVP today ??</div>\n\n<div>&nbsp\;</div>\n\n<div>PS if you&#39\;re not a member\, now&#39\;s the best time to become one! For only $50 per year you can enjoy events like this one AND many more - we promise the membership more than pays for itself. Visit&nbsp\;<a href="https://nam10.safelinks.protection.outlook.com/?url=http%3A%2F%2Fypgcenla.org%2Fbecome-a-member&amp\;data=05%7C02%7Cblilley%40lsua.edu%7Cd9376e9c90db41c3513908de2c509f4d%7Cc0fd14f1585c463fa3fffe07d288c8eb%7C1%7C0%7C638996921986968393%7CUnknown%7CTWFpbGZsb3d8eyJFbXB0eU1hcGkiOnRydWUsIlYiOiIwLjAuMDAwMCIsIlAiOiJXaW4zMiIsIkFOIjoiTWFpbCIsIldUIjoyfQ%3D%3D%7C0%7C%7C%7C&amp\;sdata=nRBIgm5yuHuFzTaRYHiyNsmzlCp5mNY3%2FShy7fS3xOc%3D&amp\;reserved=0" style="border: 0px\; font: inherit\; margin: 0px\; padding: 0px\; vertical-align: baseline\;" title="Original URL: http://ypgcenla.org/become-a-member. Click or tap if you trust this link.">ypgcenla.org/become-a-member</a>&nbsp\;today!</div>\n
LOCATION:Vibe Coworking Space 6020 Main St.\, Pineville
UID:e.2369.276
SEQUENCE:3
DTSTAMP:20260423T173913Z
URL:https://cenlabusinessdirectory.cenlachamber.org/events/details/2025-ypg-christmas-party-276
END:VEVENT

END:VCALENDAR
